BEGIN:VCALENDAR
VERSION:2.0
PRODID:-//Monika Liechti - ECPv6.15.20//NONSGML v1.0//EN
CALSCALE:GREGORIAN
METHOD:PUBLISH
X-WR-CALNAME:Monika Liechti
X-ORIGINAL-URL:https://monikaliechti.ch
X-WR-CALDESC:Events for Monika Liechti
REFRESH-INTERVAL;VALUE=DURATION:PT1H
X-Robots-Tag:noindex
X-PUBLISHED-TTL:PT1H
BEGIN:VTIMEZONE
TZID:Europe/Zurich
BEGIN:DAYLIGHT
TZOFFSETFROM:+0100
TZOFFSETTO:+0200
TZNAME:CEST
DTSTART:20230326T010000
END:DAYLIGHT
BEGIN:STANDARD
TZOFFSETFROM:+0200
TZOFFSETTO:+0100
TZNAME:CET
DTSTART:20231029T010000
END:STANDARD
BEGIN:DAYLIGHT
TZOFFSETFROM:+0100
TZOFFSETTO:+0200
TZNAME:CEST
DTSTART:20240331T010000
END:DAYLIGHT
BEGIN:STANDARD
TZOFFSETFROM:+0200
TZOFFSETTO:+0100
TZNAME:CET
DTSTART:20241027T010000
END:STANDARD
BEGIN:DAYLIGHT
TZOFFSETFROM:+0100
TZOFFSETTO:+0200
TZNAME:CEST
DTSTART:20250330T010000
END:DAYLIGHT
BEGIN:STANDARD
TZOFFSETFROM:+0200
TZOFFSETTO:+0100
TZNAME:CET
DTSTART:20251026T010000
END:STANDARD
BEGIN:DAYLIGHT
TZOFFSETFROM:+0100
TZOFFSETTO:+0200
TZNAME:CEST
DTSTART:20260329T010000
END:DAYLIGHT
BEGIN:STANDARD
TZOFFSETFROM:+0200
TZOFFSETTO:+0100
TZNAME:CET
DTSTART:20261025T010000
END:STANDARD
BEGIN:DAYLIGHT
TZOFFSETFROM:+0100
TZOFFSETTO:+0200
TZNAME:CEST
DTSTART:20270328T010000
END:DAYLIGHT
BEGIN:STANDARD
TZOFFSETFROM:+0200
TZOFFSETTO:+0100
TZNAME:CET
DTSTART:20271031T010000
END:STANDARD
END:VTIMEZONE
BEGIN:VEVENT
DTSTART;TZID=Europe/Zurich:20260328T000000
DTEND;TZID=Europe/Zurich:20260328T235959
DTSTAMP:20260419T170102
CREATED:20250304T155838Z
LAST-MODIFIED:20260219T141631Z
UID:2107-1774656000-1774742399@monikaliechti.ch
SUMMARY:Presentation “Die schöpferische Kraft von Emotionen”\, Altstätten
DESCRIPTION:FRAUENzeit Altsätten SG – This talk is held in German.
URL:https://monikaliechti.ch/event/presentation-die-schopferische-kraft-von-emotionen-altstatten/
END:VEVENT
BEGIN:VEVENT
DTSTART;TZID=Europe/Zurich:20251206T083000
DTEND;TZID=Europe/Zurich:20251206T111500
DTSTAMP:20260419T170102
CREATED:20240609T142045Z
LAST-MODIFIED:20251029T102102Z
UID:1539-1765009800-1765019700@monikaliechti.ch
SUMMARY:Presentation “Die schöpferische Kraft von Emotionen”\, Brunnen
DESCRIPTION:FRAUENzeit Brunnen – This talk is held in German.
URL:https://monikaliechti.ch/event/breakfast-meeting-in-brunnen/
END:VEVENT
BEGIN:VEVENT
DTSTART;TZID=Europe/Zurich:20251122T084500
DTEND;TZID=Europe/Zurich:20251122T110000
DTSTAMP:20260419T170102
CREATED:20250117T142117Z
LAST-MODIFIED:20251029T101919Z
UID:2115-1763801100-1763809200@monikaliechti.ch
SUMMARY:Presentation “Die schöpferische Kraft von Emotionen”\, St. Moritz
DESCRIPTION:Women’s breakfast meeting Oberengadin – Hotel Laudinella. This talk is held in German.
URL:https://monikaliechti.ch/event/lecture-the-creative-power-of-emotions-st-moritz/
END:VEVENT
BEGIN:VEVENT
DTSTART;TZID=Europe/Zurich:20251025T000000
DTEND;TZID=Europe/Zurich:20251025T235959
DTSTAMP:20260419T170102
CREATED:20250612T140749Z
LAST-MODIFIED:20251026T154555Z
UID:2063-1761350400-1761436799@monikaliechti.ch
SUMMARY:Presentation “Die schöpferische Kraft von Emotionen”\, Schiers
DESCRIPTION:Frauezmorged Schiers – This talk is held in German
URL:https://monikaliechti.ch/event/presentation-die-schopferische-kraft-von-emotionen-3/
END:VEVENT
BEGIN:VEVENT
DTSTART;TZID=Europe/Zurich:20250703T110000
DTEND;TZID=Europe/Zurich:20250703T160000
DTSTAMP:20260419T170102
CREATED:20250705T114053Z
LAST-MODIFIED:20250705T114156Z
UID:2072-1751540400-1751558400@monikaliechti.ch
SUMMARY:Book reading
DESCRIPTION:Community Room at the Seward library
URL:https://monikaliechti.ch/event/book-reading/
END:VEVENT
BEGIN:VEVENT
DTSTART;TZID=Europe/Zurich:20250423T000000
DTEND;TZID=Europe/Zurich:20250424T235959
DTSTAMP:20260419T170102
CREATED:20241220T110121Z
LAST-MODIFIED:20241220T110341Z
UID:1812-1745366400-1745539199@monikaliechti.ch
SUMMARY:Apprentice retreat
DESCRIPTION:Reading and workshop – Leysin
URL:https://monikaliechti.ch/event/apprentice-retreat/
END:VEVENT
BEGIN:VEVENT
DTSTART;TZID=Europe/Zurich:20250405T090000
DTEND;TZID=Europe/Zurich:20250405T110000
DTSTAMP:20260419T170102
CREATED:20240529T123931Z
LAST-MODIFIED:20250207T142100Z
UID:1451-1743843600-1743850800@monikaliechti.ch
SUMMARY:Presentation "Die schöpferische Kraft von Emotionen"
DESCRIPTION:FRAUENzeit Lenk – More information in the flyer. This talk is held in German.
URL:https://monikaliechti.ch/event/lecture-the-creative-power-of-emotions/
END:VEVENT
BEGIN:VEVENT
DTSTART;TZID=Europe/Zurich:20241113T090000
DTEND;TZID=Europe/Zurich:20241113T110000
DTSTAMP:20260419T170102
CREATED:20240529T123734Z
LAST-MODIFIED:20241021T130656Z
UID:1455-1731488400-1731495600@monikaliechti.ch
SUMMARY:Presentation "Die schöpferische Kraft von Emotionen"
DESCRIPTION:Women’s breakfast meeting – Protestant Church Center Bischofszell
URL:https://monikaliechti.ch/event/lecture-die-schopferische-kraft-von-emotionen/
END:VEVENT
BEGIN:VEVENT
DTSTART;TZID=Europe/Zurich:20241109T083000
DTEND;TZID=Europe/Zurich:20241109T110000
DTSTAMP:20260419T170102
CREATED:20240529T123509Z
LAST-MODIFIED:20241021T173737Z
UID:1457-1731141000-1731150000@monikaliechti.ch
SUMMARY:Presentation "Die schöpferische Kraft von Emotionen"
DESCRIPTION:Women’s breakfast meeting – Gemeindesaal Scoul (Schulhaus) This talk is held in german.
URL:https://monikaliechti.ch/event/lecture-die-schopferische-kraft-von-emotionen-2/
END:VEVENT
BEGIN:VEVENT
DTSTART;TZID=Europe/Zurich:20240915T000000
DTEND;TZID=Europe/Zurich:20240921T235959
DTSTAMP:20260419T170102
CREATED:20240823T140150Z
LAST-MODIFIED:20240827T150936Z
UID:1641-1726358400-1726963199@monikaliechti.ch
SUMMARY:Online congress
DESCRIPTION:In conversation with Christina Peters – This talk is held in german.
URL:https://monikaliechti.ch/event/online-congress/
END:VEVENT
BEGIN:VEVENT
DTSTART;TZID=Europe/Zurich:20240907T000000
DTEND;TZID=Europe/Zurich:20240907T235959
DTSTAMP:20260419T170102
CREATED:20240529T123210Z
LAST-MODIFIED:20240824T183418Z
UID:1459-1725667200-1725753599@monikaliechti.ch
SUMMARY:Author reading
DESCRIPTION:Campus Festival mitanand 2024\, God Helps Zizers Foundation –   \n\nIn collaboration with http://wie-gehts-dir.gr.ch and Health Promotion Switzerland. This talk is held in german.
URL:https://monikaliechti.ch/event/author-reading/
END:VEVENT
BEGIN:VEVENT
DTSTART;TZID=Europe/Zurich:20240602T100000
DTEND;TZID=Europe/Zurich:20240602T110000
DTSTAMP:20260419T170102
CREATED:20240529T122542Z
LAST-MODIFIED:20240609T142336Z
UID:1461-1717322400-1717326000@monikaliechti.ch
SUMMARY:Conversation with Rev. Daniel Jaberg
DESCRIPTION:Bistro-Gottesdienst EMK Chur
URL:https://monikaliechti.ch/event/conversation-with-pfr-daniel-jaberg/
LOCATION:EMK Chur\, St. Margrethenstrasse 1\, Chur\, 7000\, Switzerland
END:VEVENT
END:VCALENDAR